BEGIN:VCALENDAR
VERSION:2.0
PRODID:-//eventon.com NONSGML v1.0//EN
CALSCALE:GREGORIAN
METHOD:PUBLISH
BEGIN:VEVENT
UID:69e9daed06d55
DTSTAMP:20260423T084013Z
DTSTART:20240404T230000Z
DTEND:20240405T010300Z
LOCATION:Bill Noble Park 5895 BILL NOBLE DRIVE
SUMMARY:Men's Pickleball League
DESCRIPTION:\nhttps://billnoblepark.com/events/mens-pickleball-league-copy/
URL:https://billnoblepark.com/events/mens-pickleball-league-copy/
END:VEVENT
END:VCALENDAR