BEGIN:VCALENDAR
VERSION:2.0
PRODID:-//eventon.com NONSGML v1.0//EN
CALSCALE:GREGORIAN
METHOD:PUBLISH
BEGIN:VEVENT
UID:69e829ec09884
DTSTAMP:20260422T015244Z
DTSTART:20240912T140000Z
DTEND:20240912T180000Z
LOCATION:Bill Noble Park 5895 BILL NOBLE DRIVE
SUMMARY:Farmer's Market
DESCRIPTION:The Market will be set up weekly in front of the Bill Noble Par
 k Trophy Sign from 9am to 1pm!\nhttps://billnoblepark.com/events/farmers-ma
 rket-copy/var/ri-9.l-L1
URL:https://billnoblepark.com/events/farmers-market-copy/var/ri-9.l-L1
END:VEVENT
END:VCALENDAR