BEGIN:VCALENDAR
VERSION:2.0
PRODID:-//eventon.com NONSGML v1.0//EN
CALSCALE:GREGORIAN
METHOD:PUBLISH
BEGIN:VEVENT
UID:69e4e520547b5
DTSTAMP:20260419T142224Z
DTSTART:20240524T230000Z
DTEND:20240525T010000Z
LOCATION:Bill Noble Football Field 5895 Bill Noble Drive
SUMMARY:Movie in the Park
DESCRIPTION:Come hangout with us on the football field and watch a movie! B
 ring a blanket and enjoy!\nhttps://billnoblepark.com/events/movie-in-the-pa
 rk/
URL:https://billnoblepark.com/events/movie-in-the-park/
END:VEVENT
END:VCALENDAR